BEGIN:VCALENDAR
VERSION:2.0
PRODID:-//wp-events-plugin.com//7.2.3.1//EN
BEGIN:VEVENT
UID:1205@apfelroute.nrw
DTSTART;TZID=Europe/Berlin:20260301T110000
DTEND;TZID=Europe/Berlin:20260301T170000
DTSTAMP:20260224T120722Z
URL:https://apfelroute.nrw/events/wanderart-koenigswinter-besucht-uns-am-s
 tand/
SUMMARY:WanderArt Königswinter - Besucht uns am Stand
DESCRIPTION:Wandermesse von und mit Touristikern und Wander- und Radexperti
 nnen aus der Region.
LOCATION:Maritim Hotel Königswinter\, Rheinallee 3\, Königswinter\, 53639
 \, Deutschland
X-APPLE-STRUCTURED-LOCATION;VALUE=URI;X-ADDRESS=Rheinallee 3\, Königswinte
 r\, 53639\, Deutschland;X-APPLE-RADIUS=100;X-TITLE=Maritim Hotel Königswi
 nter:geo:0,0
END:VEVENT
BEGIN:VTIMEZONE
TZID:Europe/Berlin
X-LIC-LOCATION:Europe/Berlin
BEGIN:STANDARD
DTSTART:20251026T020000
TZOFFSETFROM:+0200
TZOFFSETTO:+0100
TZNAME:CET
END:STANDARD
END:VTIMEZONE
END:VCALENDAR