BEGIN:VCALENDAR
VERSION:2.0
PRODID:-//wp-events-plugin.com//7.2.3.1//EN
BEGIN:VEVENT
UID:930@apfelroute.nrw
DTSTART;TZID=Europe/Berlin:20240504T110000
DTEND;TZID=Europe/Berlin:20240504T190000
DTSTAMP:20231106T094727Z
URL:https://apfelroute.nrw/events/spaetsommermarkt-beim-biolandhof-apfelba
 cher/
SUMMARY:Frühlingsmarkt beim Biolandhof Apfelbacher
DESCRIPTION:Frühlingsmarkt beim Biolandhof Apfelbacher\n\nGenießt den Fr
 ühling im Natur-Garten bei Kaffee\, Kuchen und Getränken.\n\nEs erwartet
  euch\, wie immer\, ein buntes\, festliches Programm und Angebot:\n\n 	Jun
 gpflanzenverkauf\n 	 interessante\, regionale Aussteller\n 	 lokalen Par
 tner stellen sich und ihre Produkte vor\n 	Kinderaktion mit Tete der Hofp
 ädagogin\n 	Kaffee\, Kuchen und Leckeres aus der Hofküche u.v.m.\n\nWeit
 ere Informationen findet Ihr hier: www.bioland-apfelbacher.de\n\n&nbsp\;\n
 \n     \n\n \n\nFotos von 2023
LOCATION:Bioland Apfelbacher\, Tombergstraße 1\, Bornheim\, Nordrhein West
 falen\, 53332\, Rhein Voreifel\, Deutschland
X-APPLE-STRUCTURED-LOCATION;VALUE=URI;X-ADDRESS=Tombergstraße 1\, Bornheim
 \, Nordrhein Westfalen\, 53332\, Rhein Voreifel\, Deutschland;X-APPLE-RADI
 US=100;X-TITLE=Bioland Apfelbacher:geo:0,0
END:VEVENT
BEGIN:VTIMEZONE
TZID:Europe/Berlin
X-LIC-LOCATION:Europe/Berlin
BEGIN:DAYLIGHT
DTSTART:20240331T030000
TZOFFSETFROM:+0100
TZOFFSETTO:+0200
TZNAME:CEST
END:DAYLIGHT
END:VTIMEZONE
END:VCALENDAR