BEGIN:VCALENDAR
VERSION:2.0
PRODID:-//wp-events-plugin.com//7.2.3.1//EN
BEGIN:VEVENT
UID:963@apfelroute.nrw
DTSTART;TZID=Europe/Berlin:20240323T100000
DTEND;TZID=Europe/Berlin:20240323T113000
DTSTAMP:20231106T081147Z
URL:https://apfelroute.nrw/events/gartenbaumschule-hau-gehoelzschnittsemin
 ar-3/
SUMMARY:Gartenbaumschule Hau - Gehölzschnittseminar
DESCRIPTION:Bei der Gartenbaumschule Hau in Bornheim\, findet am 23.März e
 in Gehölzschnittseminar statt. \n\nIn diesem Seminar wird anhand von zah
 lreichen praktischen Beispielen aufzeigen\, wie man durch gezielte Schnitt
 maßnahmen die Gartenpflanzen in Form halten und den Ertrag bei Obstgehöl
 zen steigert.\n\nDieses Seminar kostet 15 € pro Teilnehmer. Bitte vorher
  Anmelden!\n\nWeitere Infos findet Ihr hier: www.gartenbaumschule-hau.de\n
 \n\n\n&nbsp\;
LOCATION:GartenBaumschule Hau\, Walberberger Straße 10\, Bornheim-Walberbe
 rg\, 53332\, Deutschland
X-APPLE-STRUCTURED-LOCATION;VALUE=URI;X-ADDRESS=Walberberger Straße 10\, B
 ornheim-Walberberg\, 53332\, Deutschland;X-APPLE-RADIUS=100;X-TITLE=Garten
 Baumschule Hau:geo:0,0
END:VEVENT
BEGIN:VTIMEZONE
TZID:Europe/Berlin
X-LIC-LOCATION:Europe/Berlin
BEGIN:STANDARD
DTSTART:20231029T020000
TZOFFSETFROM:+0200
TZOFFSETTO:+0100
TZNAME:CET
END:STANDARD
END:VTIMEZONE
END:VCALENDAR