BEGIN:VCALENDAR
VERSION:2.0
PRODID:-//wp-events-plugin.com//7.2.3.1//EN
BEGIN:VEVENT
UID:965@apfelroute.nrw
DTSTART;TZID=Europe/Berlin:20240428T110000
DTEND;TZID=Europe/Berlin:20240428T170000
DTSTAMP:20231107T082702Z
URL:https://apfelroute.nrw/events/gartenbaumschule-hau-bornheim-zum-fruehl
 ingserwachen/
SUMMARY:Frühlingserwachen in der Gartenbaumschule Hau - Bornheim
DESCRIPTION:Veranstaltung im Rahmen des Frühlingserwachen in Bornheim bei 
 der Gartenbaumschule Hau.\n\nAuf einer Radtour durch das Vorgebirge könnt
  ihr die Gartenbaumschule besuchen und euch von einem bunten Programm übe
 rraschen lassen.\n\nChristoph Hau bietet an diesem Tag\, Touren zu den Fel
 dern der Gartenbaumschule an. Dabei erhalten ihr Anregungen für den heimi
 schen Garten und wissenswertes über Kräutern\, Stauden und Obst im eigen
 en Garten. Für das leibliches Wohl mit Kaffee und Kuchen und weiteren Kle
 inigkeiten ist bestens gesorgt.\n\nWeiter Infos findet Ihr hier: www.garte
 nbaumschule-hau.de\n\n&nbsp\;\n\n
LOCATION:GartenBaumschule Hau\, Walberberger Straße 10\, Bornheim-Walberbe
 rg\, 53332\, Deutschland
X-APPLE-STRUCTURED-LOCATION;VALUE=URI;X-ADDRESS=Walberberger Straße 10\, B
 ornheim-Walberberg\, 53332\, Deutschland;X-APPLE-RADIUS=100;X-TITLE=Garten
 Baumschule Hau:geo:0,0
END:VEVENT
BEGIN:VTIMEZONE
TZID:Europe/Berlin
X-LIC-LOCATION:Europe/Berlin
BEGIN:DAYLIGHT
DTSTART:20240331T030000
TZOFFSETFROM:+0100
TZOFFSETTO:+0200
TZNAME:CEST
END:DAYLIGHT
END:VTIMEZONE
END:VCALENDAR