BEGIN:VCALENDAR
VERSION:2.0
PRODID:-//wp-events-plugin.com//7.2.3.1//EN
BEGIN:VEVENT
UID:940@apfelroute.nrw
DTSTART;TZID=Europe/Berlin:20230917T121500
DTEND;TZID=Europe/Berlin:20230917T121500
DTSTAMP:20230821T103504Z
URL:https://apfelroute.nrw/events/drehwerk-17-19-kino-der-geschmack-von-ap
 felkernen/
SUMMARY:Drehwerk 17/19 GmbH-Kino: "Der Geschmack von Apfelkernen"
DESCRIPTION:Sondervorstellung im Rahmen der Apfelroutentagen findet im Dreh
 werk 17/19 in Wachtberg eine Kino Sondervorstellung statt.\n\nFilm: Der Ge
 schmack von Apfelkernen\nIm Rahmen der Apfelwochen in Kooperation mit der 
 "Apfelroute" und der "Rhein-Voreifel Touristik" präsentiert das Drehwerk 
 zwei Sondervorstellungen. Mit dem Tod ihrer Großmutter Bertha erbt die 28
 -jährige Iris nicht nur deren Haus in Bootshaven\, sondern damit auch ein
 e längst vergessene Welt der Erinnerungen\, von der die junge Frau nicht 
 weiß\, ob sie diese betreten will. Sie beginnt\, die Zimmer und den Garte
 n zu durchwandern und somit auch die Vergangenheit ihrer Familie und ihre 
 eigene Kindheit zu durchstreifen. Immer näher kommt Iris dabei einem Schi
 cksalsschlag auf die Spur\, den alle vergessen wollten\, aber nie vergesse
 n konnten. (j.b.)\nIris Mutter und ihre beiden Schwestern Inga (Marie Bäu
 mer) und Harriet (Meret Becker) plagt das Heimweh nach diesem zauberhaften
  Ort. Allgegenwärtig ist der Duft von frischen Äpfeln in jeglicher Form.
  Auch dieser Geruch ist Teil der zauberhaften Erinnerungen an das Haus und
  Großmutter Bertha. Iris erlebt in Bootshaven verschiedene Stationen ihre
 r Kindheit und trifft sogar Max (Florian Stetter)\, ein Freund aus Jugendt
 agen. Doch die Erinnerungen an den frühen Tod ihrer Cousine Rosmarie (Pau
 la Beer) drängen langsam wieder an die Oberfläche...\nTickets: Normal 1
 0\,50 €\n\nIn der gesamten Zeit der Apfelwochen (26.08. - 17.09.) bietet
  das Drehwerk ein Apfelwochengericht an: Pizza Bianco "Himmel un Äd" mit 
 Creme Fraiche\, Kartoffeln\, rheinischer Blutwurst\, Elstar-Äpfel und rot
 en Zwiebeln 14\,80 €\n\nWeiter Informationen findet Ihr hier: www.drehwe
 rk-1719.de\n\n&nbsp\;\n\n\n\n  
LOCATION:Drehwerk 17/19 GmbH\, Töpferstr. 17-19\, Wachtberg\, Nordrhein We
 stfalen\, 53343\, Rhein Voreifel\, Deutschland
X-APPLE-STRUCTURED-LOCATION;VALUE=URI;X-ADDRESS=Töpferstr. 17-19\, Wachtbe
 rg\, Nordrhein Westfalen\, 53343\, Rhein Voreifel\, Deutschland;X-APPLE-RA
 DIUS=100;X-TITLE=Drehwerk 17/19 GmbH:geo:0,0
END:VEVENT
BEGIN:VTIMEZONE
TZID:Europe/Berlin
X-LIC-LOCATION:Europe/Berlin
BEGIN:DAYLIGHT
DTSTART:20230326T030000
TZOFFSETFROM:+0100
TZOFFSETTO:+0200
TZNAME:CEST
END:DAYLIGHT
END:VTIMEZONE
END:VCALENDAR