BEGIN:VCALENDAR
VERSION:2.0
PRODID:-//wp-events-plugin.com//7.2.3.1//EN
BEGIN:VEVENT
UID:902@apfelroute.nrw
DTSTART;TZID=Europe/Berlin:20230428T180000
DTEND;TZID=Europe/Berlin:20230428T200000
DTSTAMP:20230201T093827Z
URL:https://apfelroute.nrw/events/brennereifuehrung-brennerei-brauweiler-m
 eckenheim-2/
SUMMARY:Brennereiführung: Brennerei Brauweiler-Meckenheim
DESCRIPTION:Die Brennerei Brauweiler in Meckenheim bietet eine Brennereifü
 hrung mit Verkostung an.\nSeit 2001 stellt die Familie Brauweiler Obstbrä
 nde aus Meckenheimer Früchten und der Umgebung her. Es ist die südlichst
 e Brennerei in NRW und in der Rhein-Voreifel der einzige Betrieb der diese
  Leckereien herstellt.\nIhr erfahrt alles von der Frucht\, über die Verg
 ärung der Maische\, die Destillation und Lagerung\, bis hin zur Handabfü
 llung in die Flasche erfahren. Frau Aßenmacher erklärt alles ausführlic
 h und Ihr erfahrt worauf es bei der Herstellung eines qualitativ hochwerti
 gen Destillats ankommt und wie man es richtig genießt.  Neben all den Br
 änden und Likören\, gibt es auch leckeren Apfelsaft zum Kosten.\nGesamtd
 auer ca. 2 Std. Preis pro Person 15€\nTeilnehmerzahl begrenzt!\nAnmeldun
 g erforderlich!\nBitte per Email an info@brennerei-brauweiler.de oder unte
 r Tel. 02225-7385\nAlle Termine und weitere Informationen bekommt Ihr unte
 r: www.brennerei-brauweiler.de\n\n&nbsp\;\n\n  \n\n \n
LOCATION:Brennerei Brauweiler\, Krötenpfuhl 8\, Meckenheim\, 53340\, Rhein
  Voreifel\, Deutschland
X-APPLE-STRUCTURED-LOCATION;VALUE=URI;X-ADDRESS=Krötenpfuhl 8\, Meckenheim
 \, 53340\, Rhein Voreifel\, Deutschland;X-APPLE-RADIUS=100;X-TITLE=Brenner
 ei Brauweiler:geo:0,0
END:VEVENT
BEGIN:VTIMEZONE
TZID:Europe/Berlin
X-LIC-LOCATION:Europe/Berlin
BEGIN:DAYLIGHT
DTSTART:20230326T030000
TZOFFSETFROM:+0100
TZOFFSETTO:+0200
TZNAME:CEST
END:DAYLIGHT
END:VTIMEZONE
END:VCALENDAR