BEGIN:VCALENDAR
VERSION:2.0
PRODID:-//wp-events-plugin.com//7.2.3.1//EN
BEGIN:VEVENT
UID:1212@apfelroute.nrw
DTSTART;TZID=Europe/Berlin:20260530T110000
DTEND;TZID=Europe/Berlin:20260530T170000
DTSTAMP:20260224T122908Z
URL:https://apfelroute.nrw/events/5-swisttaler-apfelroutentag-ein-event-de
 r-gemeinde-swisttal/
SUMMARY:5. Swisttaler Apfelroutentag - ein Event der Gemeinde Swisttal
DESCRIPTION:Erkundet mit dem Rad die Gemeinde Swisttal und freut euch auf v
 iele spannende Stationen\, Aktionen und kulinarische Highlights.
END:VEVENT
BEGIN:VTIMEZONE
TZID:Europe/Berlin
X-LIC-LOCATION:Europe/Berlin
BEGIN:DAYLIGHT
DTSTART:20260329T030000
TZOFFSETFROM:+0100
TZOFFSETTO:+0200
TZNAME:CEST
END:DAYLIGHT
END:VTIMEZONE
END:VCALENDAR